BEGIN:VCALENDAR
VERSION:2.0
PRODID:-//hacksw/handcal//NONSGML v1.0//EN
BEGIN:VEVENT
SUMMARY:Gouter des enfants
UID:fa6f7479-b12e-4450-9c96-1d1effe8b721
DTSTART:20260417T160000Z
DTEND:20260417T180000Z
LOCATION:Localisation Stade municipal 21 route de fontenay 77220 Tournan-en-Brie
CATEGORIES:Festif
STATUS:
URL;VALUE=URI:https://www.asctcap.fr/evenements/2026/04/17/gouter-des-enfants-2440115
END:VEVENT
END:VCALENDAR
